BEGIN:VCALENDAR
VERSION:2.0
PRODID:-//PARHAATBILEET.FI - ECPv6.15.20//NONSGML v1.0//EN
CALSCALE:GREGORIAN
METHOD:PUBLISH
X-WR-CALNAME:PARHAATBILEET.FI
X-ORIGINAL-URL:https://www.parhaatbileet.fi/lippukauppa
X-WR-CALDESC:Events for PARHAATBILEET.FI
REFRESH-INTERVAL;VALUE=DURATION:PT1H
X-Robots-Tag:noindex
X-PUBLISHED-TTL:PT1H
BEGIN:VTIMEZONE
TZID:Europe/Helsinki
BEGIN:DAYLIGHT
TZOFFSETFROM:+0200
TZOFFSETTO:+0300
TZNAME:EEST
DTSTART:20240331T010000
END:DAYLIGHT
BEGIN:STANDARD
TZOFFSETFROM:+0300
TZOFFSETTO:+0200
TZNAME:EET
DTSTART:20241027T010000
END:STANDARD
BEGIN:DAYLIGHT
TZOFFSETFROM:+0200
TZOFFSETTO:+0300
TZNAME:EEST
DTSTART:20250330T010000
END:DAYLIGHT
BEGIN:STANDARD
TZOFFSETFROM:+0300
TZOFFSETTO:+0200
TZNAME:EET
DTSTART:20251026T010000
END:STANDARD
BEGIN:DAYLIGHT
TZOFFSETFROM:+0200
TZOFFSETTO:+0300
TZNAME:EEST
DTSTART:20260329T010000
END:DAYLIGHT
BEGIN:STANDARD
TZOFFSETFROM:+0300
TZOFFSETTO:+0200
TZNAME:EET
DTSTART:20261025T010000
END:STANDARD
END:VTIMEZONE
BEGIN:VEVENT
DTSTART;TZID=Europe/Helsinki:20250926T210000
DTEND;TZID=Europe/Helsinki:20250927T020000
DTSTAMP:20260420T180006
CREATED:20250913T094904Z
LAST-MODIFIED:20250917T101042Z
UID:10000200-1758920400-1758938400@www.parhaatbileet.fi
SUMMARY:Noora Louhimo Toppila Klubi Oulu 26.9.2025
DESCRIPTION:Choose a language\n	English\n\n\n\n\n\n\n\nNoora Louhimo Oulu\, Toppila Klubi 26.9.2025\nNoora Louhimo’s Acoustic Experience takes over Toppila Klubi this September with a heartfelt\, intimate set that showcases her virtuosity as a singer and performer. Expect empowering and tender favourites that span rock\, blues\, soul and heavy metal — a night of stories\, dynamics and connection. “Get ready to cry\, laugh and maybe dance your worries away. At my show we celebrate life and music without restraint\,” Louhimo promises. Seats are limited — rally your friends and make it a Friday to remember. \nNoora Louhimo Toppila Klubi 26.9.2025\n\nVenue: Toppila Klubi\nTickets: 25 € + Processing fee €2.50\nShowtime: after 10 PM\n\n\n\n\n\n\n \n\nHear the Acoustic Experience — Reserve Now\n    	\n        Buy now!
URL:https://www.parhaatbileet.fi/lippukauppa/keikka/noora-louhimo-toppila-klubi-oulu-26-9-2025/
LOCATION:Toppila Klubi\, Kapteenintie 24\, Oulu\, 90520
CATEGORIES:english,keikat,Toppila Klubi
ATTACH;FMTTYPE=image/jpeg:https://www.parhaatbileet.fi/lippukauppa/wp-content/uploads/2025/07/noora-louhimo-toppilaklubi.jpg
END:VEVENT
END:VCALENDAR